BEGIN:VCALENDAR
VERSION:2.0
PRODID:-//Pionra//Events Calendar//EN
CALSCALE:GREGORIAN
METHOD:PUBLISH
X-WR-CALNAME:Foot du dimanche · match mixte et débutants bienvenus
X-WR-CALDESC:Terrain réservé\, équipes faites sur place\, ambiance simpl
 e et ouverte aux nouveaux.
BEGIN:VEVENT
UID:pionra-event-events-seed-05@pionra.local
DTSTAMP:20260422T153854Z
DTSTART:20260504T113000Z
SUMMARY:Foot du dimanche · match mixte et débutants bienvenus
DESCRIPTION:Terrain réservé\, équipes faites sur place\, ambiance simple
  et ouverte aux nouveaux.\n\nhttps://pionra.fr/ar/events/events-seed-05
URL:https://pionra.fr/ar/events/events-seed-05
STATUS:CONFIRMED
DTEND:20260504T133000Z
LOCATION:Stade Compans\, 1 boulevard Lascrosses\, Toulouse\, Toulouse
END:VEVENT
END:VCALENDAR
