BEGIN:VCALENDAR
VERSION:2.0
PRODID:-//Pionra//Events Calendar//EN
CALSCALE:GREGORIAN
METHOD:PUBLISH
X-WR-CALNAME:Zoom titres de séjour 2026 · questions ouvertes
X-WR-CALDESC:Point complet sur renouvellement\, changement de statut et pi
 èces qui bloquent souvent.
BEGIN:VEVENT
UID:pionra-event-events-seed-06@pionra.local
DTSTAMP:20260422T153856Z
DTSTART:20260506T193000Z
SUMMARY:Zoom titres de séjour 2026 · questions ouvertes
DESCRIPTION:Point complet sur renouvellement\, changement de statut et piè
 ces qui bloquent souvent.\n\nhttps://pionra.fr/ar/events/events-seed-06
URL:https://pionra.fr/ar/events/events-seed-06
STATUS:CONFIRMED
DTEND:20260506T213000Z
LOCATION:Online
END:VEVENT
END:VCALENDAR
