BEGIN:VCALENDAR
VERSION:2.0
PRODID:-//Pionra//Events Calendar//EN
CALSCALE:GREGORIAN
METHOD:PUBLISH
X-WR-CALNAME:Pionra Events
X-WR-CALDESC:Événements à venir sur Pionra
BEGIN:VEVENT
UID:pionra-event-events-seed-04@pionra.local
DTSTAMP:20260422T183730Z
DTSTART:20260502T193000Z
SUMMARY:Meetup expat freelances · café + intros
DESCRIPTION:Rencontres rapides\, tours d’intro utiles et bons plans pour 
 lancer son réseau sans perdre sa soirée.\n\nhttps://pionra.fr/ar/events/
 events-seed-04
URL:https://pionra.fr/ar/events/events-seed-04
STATUS:CONFIRMED
DTEND:20260502T213000Z
LOCATION:Café de la Gare\, 14 place de la Gare\, Lille\, Lille
END:VEVENT
END:VCALENDAR
