BEGIN:VCALENDAR
VERSION:2.0
PRODID:-//Pionra//Events Calendar//EN
CALSCALE:GREGORIAN
METHOD:PUBLISH
X-WR-CALNAME:1er dimanche du mois : entrée gratuite au musée Jules Verne
X-WR-CALDESC:Le premier dimanche de chaque mois (hors periode estivale)\, t
 ous les musées de la métropole nantaise sont gratuits ! Profitez-en pour
  nous rendre visite.
BEGIN:VEVENT
UID:pionra-event-nantes-agenda-70224@pionra.local
DTSTAMP:20260423T142710Z
DTSTART:20260503T120000Z
SUMMARY:1er dimanche du mois : entrée gratuite au musée Jules Verne
DESCRIPTION:Le premier dimanche de chaque mois (hors periode estivale)\, to
 us les musées de la métropole nantaise sont gratuits ! Profitez-en pour 
 nous rendre visite.\n\nhttps://pionra.fr/ar/events/nantes-agenda-70224
URL:https://pionra.fr/ar/events/nantes-agenda-70224
STATUS:CONFIRMED
DTEND:20260503T160000Z
LOCATION:Musée Jules Verne\, Musée Jules Verne\, 3 Rue de l'Hermitage\, 4
 4100\, Nantes\, Nantes
END:VEVENT
END:VCALENDAR
