BEGIN:VCALENDAR
VERSION:2.0
PRODID:-//Pionra//Events Calendar//EN
CALSCALE:GREGORIAN
METHOD:PUBLISH
X-WR-CALNAME:Soleil vert
X-WR-CALDESC:Réalisé par Richard Fleischer | Soylent Green | 1973 | 1h37 
 | États-Unis Avec : Charlton Heston\, Edward G. Robinson\, Leigh Taylor-Y
 oung
BEGIN:VEVENT
UID:pionra-event-nice-agenda-44942-64fe561bb715c0@pionra.local
DTSTAMP:20260423T144354Z
DTSTART:20260503T120000Z
SUMMARY:Soleil vert
DESCRIPTION:Réalisé par Richard Fleischer | Soylent Green | 1973 | 1h37 |
  États-Unis Avec : Charlton Heston\, Edward G. Robinson\, Leigh Taylor-Yo
 ung\n\nhttps://pionra.fr/ar/events/nice-agenda-44942-64fe561bb715c0
URL:https://pionra.fr/ar/events/nice-agenda-44942-64fe561bb715c0
STATUS:CONFIRMED
DTEND:20260503T120000Z
LOCATION:Cinémathèque\, Cinémathèque\, Cinéma Megarama Nice Vauban - a
 venue François Mitterrand\, 06300\, Nice\, Nice
END:VEVENT
END:VCALENDAR
