BEGIN:VCALENDAR
VERSION:2.0
PRODID:-//Pionra//Events Calendar//EN
CALSCALE:GREGORIAN
METHOD:PUBLISH
X-WR-CALNAME:A la rencontre du jardin partagé de l'Univert
X-WR-CALDESC:Un temps d’échange pour découvrir le fonctionnement d’un
  jardin partagé : partage d’expériences\, conseils et discussion autou
 r des projets en cours.
BEGIN:VEVENT
UID:pionra-event-opendata-paris-30317-1@pionra.local
DTSTAMP:20260423T125851Z
DTSTART:20260423T153000Z
SUMMARY:A la rencontre du jardin partagé de l'Univert
DESCRIPTION:Un temps d’échange pour découvrir le fonctionnement d’un 
 jardin partagé : partage d’expériences\, conseils et discussion autour
  des projets en cours.\n\nhttps://pionra.fr/ar/events/opendata-paris-30317
 -1
URL:https://pionra.fr/ar/events/opendata-paris-30317-1
STATUS:CONFIRMED
DTEND:20260423T163000Z
LOCATION:Jardin partagé de l'Univert\, Jardin partagé de l'Univert\, 35 r
 ue Polonceau\, Paris\, Paris
END:VEVENT
END:VCALENDAR
