BEGIN:VCALENDAR
VERSION:2.0
PRODID:-//Pionra//Events Calendar//EN
CALSCALE:GREGORIAN
METHOD:PUBLISH
X-WR-CALNAME:Tribute to Miles Davis / Tom Peyron Quartet
X-WR-CALDESC:Une soirée consacrée au second quintet de Miles Davis (1964-
 1969)\, l’un des groupes les plus marquants de l’histoire du jazz !
BEGIN:VEVENT
UID:pionra-event-opendata-paris-81722-1@pionra.local
DTSTAMP:20260423T125850Z
DTSTART:20260423T173000Z
SUMMARY:Tribute to Miles Davis / Tom Peyron Quartet
DESCRIPTION:Une soirée consacrée au second quintet de Miles Davis (1964-1
 969)\, l’un des groupes les plus marquants de l’histoire du jazz !\n\n
 https://pionra.fr/ar/events/opendata-paris-81722-1
URL:https://pionra.fr/ar/events/opendata-paris-81722-1
STATUS:CONFIRMED
DTEND:20260423T183000Z
LOCATION:JASS CLUB PARIS\, JASS CLUB PARIS\, 141 Rue de Tolbiac\, Paris\, P
 aris
END:VEVENT
END:VCALENDAR
