BEGIN:VCALENDAR
VERSION:2.0
PRODID:-//Pionra//Events Calendar//EN
CALSCALE:GREGORIAN
METHOD:PUBLISH
X-WR-CALNAME:Exposition collective « Indices de présence » #PRIX CARRÉ 
 SUR SEINE 2025
X-WR-CALDESC:Fidèle à son engagement à contribuer à favorise une visibi
 lité des artistes lauréat·es\, Carré sur Seine poursuit son partenaria
 t avec le Centre Wallonie-Bruxelles I Paris aka le Vaisseau\, où se tiend
 ra l’exposition « In…
BEGIN:VEVENT
UID:pionra-event-opendata-paris-82299-12@pionra.local
DTSTAMP:20260423T125849Z
DTSTART:20260423T120000Z
SUMMARY:Exposition collective « Indices de présence » #PRIX CARRÉ SUR S
 EINE 2025
DESCRIPTION:Fidèle à son engagement à contribuer à favorise une visibil
 ité des artistes lauréat·es\, Carré sur Seine poursuit son partenariat
  avec le Centre Wallonie-Bruxelles I Paris aka le Vaisseau\, où se tiendr
 a l’exposition « In…\n\nhttps://pionra.fr/ar/events/opendata-paris-82
 299-12
URL:https://pionra.fr/ar/events/opendata-paris-82299-12
STATUS:CONFIRMED
DTEND:20260423T190000Z
LOCATION:Online
END:VEVENT
END:VCALENDAR
