BEGIN:VCALENDAR
VERSION:2.0
PRODID:-//Pionra//Events Calendar//EN
CALSCALE:GREGORIAN
METHOD:PUBLISH
X-WR-CALNAME:Blind test à l'orgue de barbarie à Paris 20
X-WR-CALDESC:Le 23 avril 2026\, testez votre culture musicale en devinant l
 es chansons joué à l'orgue de barbarie. L'activité est gratuite\, ouver
 te à tous.te.s.
BEGIN:VEVENT
UID:pionra-event-opendata-paris-83177-1@pionra.local
DTSTAMP:20260423T125747Z
DTSTART:20260423T123000Z
SUMMARY:Blind test à l'orgue de barbarie à Paris 20
DESCRIPTION:Le 23 avril 2026\, testez votre culture musicale en devinant le
 s chansons joué à l'orgue de barbarie. L'activité est gratuite\, ouvert
 e à tous.te.s.\n\nhttps://pionra.fr/ar/events/opendata-paris-83177-1
URL:https://pionra.fr/ar/events/opendata-paris-83177-1
STATUS:CONFIRMED
DTEND:20260423T140000Z
LOCATION:Square de la Salamandre\, Square de la Salamandre\, 16 square Sala
 mandre\, Paris\, Paris
END:VEVENT
END:VCALENDAR
