BEGIN:VCALENDAR
VERSION:2.0
PRODID:-//Pionra//Events Calendar//EN
CALSCALE:GREGORIAN
METHOD:PUBLISH
X-WR-CALNAME:La boîte à histoires pour les plus grands
X-WR-CALDESC:Lectures pour la jeunesse
BEGIN:VEVENT
UID:pionra-event-bordeaux-agenda-13196591@pionra.local
DTSTAMP:20260423T151953Z
DTSTART:20260429T083000Z
SUMMARY:La boîte à histoires pour les plus grands
DESCRIPTION:Lectures pour la jeunesse\n\nhttps://pionra.fr/en/events/bordea
 ux-agenda-13196591
URL:https://pionra.fr/en/events/bordeaux-agenda-13196591
STATUS:CONFIRMED
DTEND:20260429T093000Z
LOCATION:Médiathèque Jean Degoul - Centre culturel Le Plateau\, rue de l'
 église\, 33320 Eysines\, Eysines
END:VEVENT
END:VCALENDAR
