BEGIN:VCALENDAR
VERSION:2.0
PRODID:-//Pionra//Events Calendar//EN
CALSCALE:GREGORIAN
METHOD:PUBLISH
X-WR-CALNAME:LES RAMONEURS DE MENHIRS - KRAV BOCA - LE REPARATEUR
X-WR-CALDESC:LES RAMONEURS DE MENHIRS\, KRAV BOCA et LE REPARATEUR Une scè
 ne réunissant 3 groupes punk/rock ou chacun porte leur valeur\, leur rég
 ion\, leur tradi. un breuvage à boire sans modération !
BEGIN:VEVENT
UID:pionra-event-bordeaux-agenda-88265916@pionra.local
DTSTAMP:20260423T151954Z
DTSTART:20260521T180000Z
SUMMARY:LES RAMONEURS DE MENHIRS - KRAV BOCA - LE REPARATEUR
DESCRIPTION:LES RAMONEURS DE MENHIRS\, KRAV BOCA et LE REPARATEUR Une scèn
 e réunissant 3 groupes punk/rock ou chacun porte leur valeur\, leur régi
 on\, leur tradi. un breuvage à boire sans modération !\n\nhttps://pionra
 .fr/en/events/bordeaux-agenda-88265916
URL:https://pionra.fr/en/events/bordeaux-agenda-88265916
STATUS:CONFIRMED
DTEND:20260521T210000Z
LOCATION:La Salle des Fêtes Bordeaux Grand Parc\, 39 cours de luze\, Borde
 aux
END:VEVENT
END:VCALENDAR
