BEGIN:VCALENDAR
VERSION:2.0
PRODID:-//Pionra//Events Calendar//EN
CALSCALE:GREGORIAN
METHOD:PUBLISH
X-WR-CALNAME:Pionra Events
X-WR-CALDESC:Événements à venir sur Pionra
BEGIN:VEVENT
UID:pionra-event-events-seed-14@pionra.local
DTSTAMP:20260422T220019Z
DTSTART:20260606T193000Z
SUMMARY:Basket du jeudi soir · gymnase libre
DESCRIPTION:Session sans niveau requis avec vestiaires\, eau sur place et 
 équipe d’accueil au début.\n\nhttps://pionra.fr/en/events/events-seed-
 14
URL:https://pionra.fr/en/events/events-seed-14
STATUS:CONFIRMED
DTEND:20260606T213000Z
LOCATION:Gymnase Garibaldi\, 17 rue Garibaldi\, Lyon\, Lyon
END:VEVENT
END:VCALENDAR
