BEGIN:VCALENDAR
VERSION:2.0
PRODID:-//Pionra//Events Calendar//EN
CALSCALE:GREGORIAN
METHOD:PUBLISH
X-WR-CALNAME:Pionra Events
X-WR-CALDESC:Événements à venir sur Pionra
BEGIN:VEVENT
UID:pionra-event-events-seed-15@pionra.local
DTSTAMP:20260422T235208Z
DTSTART:20260613T183000Z
SUMMARY:Conférence logement étudiant · garanties et pièges
DESCRIPTION:Pour éviter les erreurs de dossier\, les faux frais et les ref
 us silencieux quand on arrive juste.\n\nhttps://pionra.fr/en/events/events
 -seed-15
URL:https://pionra.fr/en/events/events-seed-15
STATUS:CONFIRMED
DTEND:20260613T203000Z
LOCATION:Maison étudiante\, 2 rue du Taur\, Toulouse\, Toulouse
END:VEVENT
END:VCALENDAR
