BEGIN:VCALENDAR
VERSION:2.0
PRODID:-//Pionra//Events Calendar//EN
CALSCALE:GREGORIAN
METHOD:PUBLISH
X-WR-CALNAME:Pionra Events
X-WR-CALDESC:Événements à venir sur Pionra
BEGIN:VEVENT
UID:pionra-event-events-seed-17@pionra.local
DTSTAMP:20260422T223713Z
DTSTART:20260624T093000Z
SUMMARY:Breakfast networking international students
DESCRIPTION:Petit-déjeuner de rentrée pour rencontres simples\, colocs\, 
 jobs étudiants et bons repères locaux.\n\nhttps://pionra.fr/en/events/ev
 ents-seed-17
URL:https://pionra.fr/en/events/events-seed-17
STATUS:CONFIRMED
DTEND:20260624T113000Z
LOCATION:Maison des étudiants\, 5 rue de l’Université\, Montpellier\, M
 ontpellier
END:VEVENT
END:VCALENDAR
