BEGIN:VCALENDAR
VERSION:2.0
PRODID:-//Pionra//Events Calendar//EN
CALSCALE:GREGORIAN
METHOD:PUBLISH
X-WR-CALNAME:Exposition Handiclap - au Pellerin
X-WR-CALDESC:S'inscrivant dans la programmation de la 39e édition du Festi
 val Handiclap\, le service solidarité de la ville du Pellerin vous invite
 \, du 6 juin au 4 juillet 2026\, à découvrir les œuvres d'artistes\, va
 lides et en situat…
BEGIN:VEVENT
UID:pionra-event-nantes-agenda-70156@pionra.local
DTSTAMP:20260423T151942Z
DTSTART:20260610T123000Z
SUMMARY:Exposition Handiclap - au Pellerin
DESCRIPTION:S'inscrivant dans la programmation de la 39e édition du Festiv
 al Handiclap\, le service solidarité de la ville du Pellerin vous invite\
 , du 6 juin au 4 juillet 2026\, à découvrir les œuvres d'artistes\, val
 ides et en situat…\n\nhttps://pionra.fr/en/events/nantes-agenda-70156
URL:https://pionra.fr/en/events/nantes-agenda-70156
STATUS:CONFIRMED
DTEND:20260610T160000Z
LOCATION:Médiathèque du Pellerin\, Médiathèque du Pellerin\, Allée Geo
 rge Sand\, 44640\, Le Pellerin\, Le Pellerin
END:VEVENT
END:VCALENDAR
