BEGIN:VCALENDAR
VERSION:2.0
PRODID:-//Pionra//Events Calendar//EN
CALSCALE:GREGORIAN
METHOD:PUBLISH
X-WR-CALNAME:Je préfère qu’on reste amis
X-WR-CALDESC:Comédie. "Je préfère qu’on reste amis". C’est la phrase
  qu’il ne fallait pas prononcer. Claudine ne voulait pas l’entendre et
  surtout pas de la bouche de Valentin car ce soir là\, elle avait décid
 é de lui dévoiler son am…
BEGIN:VEVENT
UID:pionra-event-nantes-agenda-70243@pionra.local
DTSTAMP:20260423T142820Z
DTSTART:20260424T183000Z
SUMMARY:Je préfère qu’on reste amis
DESCRIPTION:Comédie. "Je préfère qu’on reste amis". C’est la phrase 
 qu’il ne fallait pas prononcer. Claudine ne voulait pas l’entendre et 
 surtout pas de la bouche de Valentin car ce soir là\, elle avait décidé
  de lui dévoiler son am…\n\nhttps://pionra.fr/en/events/nantes-agenda-7
 0243
URL:https://pionra.fr/en/events/nantes-agenda-70243
STATUS:CONFIRMED
DTEND:20260424T201500Z
LOCATION:Théâtre Beaulieu\, Théâtre Beaulieu\, 9 Bis Boulevard Françoi
 s Blancho\, 44200\, Nantes\, Nantes
END:VEVENT
END:VCALENDAR
