BEGIN:VCALENDAR
VERSION:2.0
PRODID:-//Pionra//Events Calendar//EN
CALSCALE:GREGORIAN
METHOD:PUBLISH
X-WR-CALNAME:Les quartiers du négoce au temps de la traite atlantique - Vi
 site guidée
X-WR-CALDESC:Visite guidée Le Voyage à Nantes Une visite pour en apprendr
 e plus sur la traite atlantique de Nantes aux 18e et 19e siècles.Découve
 rte des hôtels d’armateurs\, du quai d’où partaient les navires vers
  l’Afrique et les An…
BEGIN:VEVENT
UID:pionra-event-nantes-agenda-70307@pionra.local
DTSTAMP:20260423T142821Z
DTSTART:20260522T123000Z
SUMMARY:Les quartiers du négoce au temps de la traite atlantique - Visite 
 guidée
DESCRIPTION:Visite guidée Le Voyage à Nantes Une visite pour en apprendre
  plus sur la traite atlantique de Nantes aux 18e et 19e siècles.Découver
 te des hôtels d’armateurs\, du quai d’où partaient les navires vers 
 l’Afrique et les An…\n\nhttps://pionra.fr/en/events/nantes-agenda-7030
 7
URL:https://pionra.fr/en/events/nantes-agenda-70307
STATUS:CONFIRMED
DTEND:20260522T143000Z
LOCATION:Nantes (Centre ville)\, Nantes (Centre ville)\, Centre ville\, 440
 00\, Nantes\, Nantes
END:VEVENT
END:VCALENDAR
