BEGIN:VCALENDAR
VERSION:2.0
PRODID:-//Pionra//Events Calendar//EN
CALSCALE:GREGORIAN
METHOD:PUBLISH
X-WR-CALNAME:Un condamné à mort s&rsquo\;est échappé
X-WR-CALDESC:Réalisé par Robert Bresson | Un condamné à mort s&rsquo\;e
 st échappé ou Le vent souffle où il veut | 1956 | 1h39 | France Avec : 
 François Leterrier\, Charles Le Clainche\, Roland Monod
BEGIN:VEVENT
UID:pionra-event-nice-agenda-43671-64dfee630462fc@pionra.local
DTSTAMP:20260423T151940Z
DTSTART:20260430T120000Z
SUMMARY:Un condamné à mort s&rsquo\;est échappé
DESCRIPTION:Réalisé par Robert Bresson | Un condamné à mort s&rsquo\;es
 t échappé ou Le vent souffle où il veut | 1956 | 1h39 | France Avec : F
 rançois Leterrier\, Charles Le Clainche\, Roland Monod\n\nhttps://pionra.
 fr/en/events/nice-agenda-43671-64dfee630462fc
URL:https://pionra.fr/en/events/nice-agenda-43671-64dfee630462fc
STATUS:CONFIRMED
DTEND:20260430T120000Z
LOCATION:Cinémathèque\, Cinémathèque\, Cinéma Megarama Nice Vauban - a
 venue François Mitterrand\, 06300\, Nice\, Nice
END:VEVENT
END:VCALENDAR
