BEGIN:VCALENDAR
VERSION:2.0
PRODID:-//Pionra//Events Calendar//EN
CALSCALE:GREGORIAN
METHOD:PUBLISH
X-WR-CALNAME:NUBË – LUCIE GUILLEM QUARTET
X-WR-CALDESC:Tout commence par une voix franche\, sans artifices. Celle de 
 Lucie Guillem\, chanteuse à l'origine du projet Nubë
BEGIN:VEVENT
UID:pionra-event-opendata-paris-79233-1@pionra.local
DTSTAMP:20260423T151821Z
DTSTART:20260423T173000Z
SUMMARY:NUBË – LUCIE GUILLEM QUARTET
DESCRIPTION:Tout commence par une voix franche\, sans artifices. Celle de L
 ucie Guillem\, chanteuse à l'origine du projet Nubë\n\nhttps://pionra.fr
 /en/events/opendata-paris-79233-1
URL:https://pionra.fr/en/events/opendata-paris-79233-1
STATUS:CONFIRMED
DTEND:20260423T190000Z
LOCATION:Le Baiser Salé\, Le Baiser Salé\, 58 Rue des Lombards\, Paris\, 
 Paris
END:VEVENT
END:VCALENDAR
