BEGIN:VCALENDAR
VERSION:2.0
PRODID:-//Pionra//Events Calendar//EN
CALSCALE:GREGORIAN
METHOD:PUBLISH
X-WR-CALNAME:Renaissances (DRAME)
X-WR-CALDESC:Elles ne savent pas pourquoi elles sont là… et si cette sal
 le d’attente révélait plus qu’un simple lieu ?
BEGIN:VEVENT
UID:pionra-event-opendata-paris-79944-8@pionra.local
DTSTAMP:20260423T151924Z
DTSTART:20260423T170000Z
SUMMARY:Renaissances (DRAME)
DESCRIPTION:Elles ne savent pas pourquoi elles sont là… et si cette sall
 e d’attente révélait plus qu’un simple lieu ?\n\nhttps://pionra.fr/e
 n/events/opendata-paris-79944-8
URL:https://pionra.fr/en/events/opendata-paris-79944-8
STATUS:CONFIRMED
DTEND:20260423T181500Z
LOCATION:Théo Théâtre\, Théo Théâtre\, 20 rue Théodore Deck\, Paris\
 , Paris
END:VEVENT
END:VCALENDAR
