BEGIN:VCALENDAR
VERSION:2.0
PRODID:-//Pionra//Events Calendar//EN
CALSCALE:GREGORIAN
METHOD:PUBLISH
X-WR-CALNAME:Thomas Duvigneau Invite Alex Terrier
X-WR-CALDESC:Un quartet explosif où la virtuosité et l’improvisation s
 ’unissent pour une expérience jazz intense et vibrante.
BEGIN:VEVENT
UID:pionra-event-opendata-paris-80985-1@pionra.local
DTSTAMP:20260423T151821Z
DTSTART:20260423T180000Z
SUMMARY:Thomas Duvigneau Invite Alex Terrier
DESCRIPTION:Un quartet explosif où la virtuosité et l’improvisation s
 ’unissent pour une expérience jazz intense et vibrante.\n\nhttps://pion
 ra.fr/en/events/opendata-paris-80985-1
URL:https://pionra.fr/en/events/opendata-paris-80985-1
STATUS:CONFIRMED
DTEND:20260423T200000Z
LOCATION:Le Son de la Terre\, Le Son de la Terre\, 2 Port de Montebello\, P
 aris 05\, Paris 05
END:VEVENT
END:VCALENDAR
