BEGIN:VCALENDAR
VERSION:2.0
PRODID:-//Pionra//Events Calendar//EN
CALSCALE:GREGORIAN
METHOD:PUBLISH
X-WR-CALNAME:Pionra Events
X-WR-CALDESC:Événements à venir sur Pionra
BEGIN:VEVENT
UID:pionra-event-events-seed-10@pionra.local
DTSTAMP:20260422T224745Z
DTSTART:20260519T083000Z
SUMMARY:Run club du canal · 5 km easy pace
DESCRIPTION:Sortie accessible\, rythme souple\, parfait pour rencontrer du 
 monde sans pression.\n\nhttps://pionra.fr/es/events/events-seed-10
URL:https://pionra.fr/es/events/events-seed-10
STATUS:CONFIRMED
DTEND:20260519T103000Z
LOCATION:Parc de l’Orangerie\, Allée de la Robertsau\, Strasbourg\, Stra
 sbourg
END:VEVENT
END:VCALENDAR
