BEGIN:VCALENDAR
VERSION:2.0
PRODID:-//Pionra//Events Calendar//EN
CALSCALE:GREGORIAN
METHOD:PUBLISH
X-WR-CALNAME:Pionra Events
X-WR-CALDESC:Événements à venir sur Pionra
BEGIN:VEVENT
UID:pionra-event-events-seed-11@pionra.local
DTSTAMP:20260422T220021Z
DTSTART:20260525T163000Z
SUMMARY:Marché de créateurs diaspora · food + design
DESCRIPTION:Pop-up local avec stands\, dégustations et adresses à garder 
 pour le week-end.\n\nhttps://pionra.fr/es/events/events-seed-11
URL:https://pionra.fr/es/events/events-seed-11
STATUS:CONFIRMED
DTEND:20260525T203000Z
LOCATION:Cours Julien\, Cours Julien\, Marseille\, Marseille
END:VEVENT
END:VCALENDAR
