BEGIN:VCALENDAR
VERSION:2.0
PRODID:-//Pionra//Events Calendar//EN
CALSCALE:GREGORIAN
METHOD:PUBLISH
X-WR-CALNAME:Pionra Events
X-WR-CALDESC:Événements à venir sur Pionra
BEGIN:VEVENT
UID:pionra-event-events-seed-13@pionra.local
DTSTAMP:20260422T215954Z
DTSTART:20260602T203000Z
SUMMARY:Meetup founders multiculturels · dîner table ronde
DESCRIPTION:Dîner petit format pour partager problèmes concrets: vente\, 
 visa\, recrutement\, comptes bancaires.\n\nhttps://pionra.fr/es/events/eve
 nts-seed-13
URL:https://pionra.fr/es/events/events-seed-13
STATUS:CONFIRMED
DTEND:20260602T233000Z
LOCATION:Canal coworking\, 24 quai de Valmy\, Paris\, Paris
END:VEVENT
END:VCALENDAR
