BEGIN:VCALENDAR
VERSION:2.0
PRODID:-//Pionra//Events Calendar//EN
CALSCALE:GREGORIAN
METHOD:PUBLISH
X-WR-CALNAME:Nocturne tous les jeudis soir
X-WR-CALDESC:Tous les jeudis de 19h à 21h\, le Musée d'arts de Nantes est
  en entrée libre ! Après le travail ou pour débuter la soirée\, profit
 ez de ces deux heures entre amis ou en famille pour découvrir le musée !
  Prenez le temps de…
BEGIN:VEVENT
UID:pionra-event-nantes-agenda-69773@pionra.local
DTSTAMP:20260423T134922Z
DTSTART:20260528T170000Z
SUMMARY:Nocturne tous les jeudis soir
DESCRIPTION:Tous les jeudis de 19h à 21h\, le Musée d'arts de Nantes est 
 en entrée libre ! Après le travail ou pour débuter la soirée\, profite
 z de ces deux heures entre amis ou en famille pour découvrir le musée ! 
 Prenez le temps de…\n\nhttps://pionra.fr/es/events/nantes-agenda-69773
URL:https://pionra.fr/es/events/nantes-agenda-69773
STATUS:CONFIRMED
DTEND:20260528T190000Z
LOCATION:Musée d'arts de Nantes\, Musée d'arts de Nantes\, 10 Rue Georges
  Clemenceau\, 44000\, Nantes\, Nantes
END:VEVENT
END:VCALENDAR
