BEGIN:VCALENDAR
VERSION:2.0
PRODID:-//Pionra//Events Calendar//EN
CALSCALE:GREGORIAN
METHOD:PUBLISH
X-WR-CALNAME:La ville est un jardin - Visite guidée
X-WR-CALDESC:Visite guidée Le Voyage à Nantes. Nantes est connue comme la
  ville aux 125 parcs et jardins.Un maillage d’oasis de verdure au coeur 
 de la Cité des ducs.Découverte\, le temps d’une visite\, des nouveaux 
 aménagements paysag…
BEGIN:VEVENT
UID:pionra-event-nantes-agenda-70059@pionra.local
DTSTAMP:20260423T134922Z
DTSTART:20260424T123000Z
SUMMARY:La ville est un jardin - Visite guidée
DESCRIPTION:Visite guidée Le Voyage à Nantes. Nantes est connue comme la 
 ville aux 125 parcs et jardins.Un maillage d’oasis de verdure au coeur d
 e la Cité des ducs.Découverte\, le temps d’une visite\, des nouveaux a
 ménagements paysag…\n\nhttps://pionra.fr/es/events/nantes-agenda-70059
URL:https://pionra.fr/es/events/nantes-agenda-70059
STATUS:CONFIRMED
DTEND:20260424T143000Z
LOCATION:Nantes (Centre ville)\, Nantes (Centre ville)\, Centre ville\, 440
 00\, Nantes\, Nantes
END:VEVENT
END:VCALENDAR
