BEGIN:VCALENDAR
VERSION:2.0
PRODID:-//Pionra//Events Calendar//EN
CALSCALE:GREGORIAN
METHOD:PUBLISH
X-WR-CALNAME:Commémoration du 8 mai 1945 - au Pellerin
X-WR-CALDESC:Vendredi 8 mai\, la Municipalité du Pellerin et les présiden
 ts des associations d’anciens combattants vous invitent à les rejoindre
  pour commémorer la victoire du 8 mai 1945\, en hommage aux soldats morts
  au front. > 11h…
BEGIN:VEVENT
UID:pionra-event-nantes-agenda-70889@pionra.local
DTSTAMP:20260423T142802Z
DTSTART:20260508T090000Z
SUMMARY:Commémoration du 8 mai 1945 - au Pellerin
DESCRIPTION:Vendredi 8 mai\, la Municipalité du Pellerin et les président
 s des associations d’anciens combattants vous invitent à les rejoindre 
 pour commémorer la victoire du 8 mai 1945\, en hommage aux soldats morts 
 au front. > 11h…\n\nhttps://pionra.fr/es/events/nantes-agenda-70889
URL:https://pionra.fr/es/events/nantes-agenda-70889
STATUS:CONFIRMED
DTEND:20260508T090000Z
LOCATION:Mairie du Pellerin\, Mairie du Pellerin\, rue du Docteur Gilbert S
 ourdille\, 44640\, Le Pellerin\, Le Pellerin
END:VEVENT
END:VCALENDAR
