BEGIN:VCALENDAR
VERSION:2.0
PRODID:-//Pionra//Events Calendar//EN
CALSCALE:GREGORIAN
METHOD:PUBLISH
X-WR-CALNAME:Brut(es) - Cie Chute Libre - Saison Lieu Unique
X-WR-CALDESC:Danse Pour les chorégraphes venus du hip-hop Annabelle Loisea
 u et Pierre Bolo\, le krump est une danse puissante\, hors-norme\,. Lorsqu
 ’il s’en empare\, l’interprète est traversé par une énergie féro
 ce qui l’arrache à lui-m…
BEGIN:VEVENT
UID:pionra-event-nantes-agenda-72352@pionra.local
DTSTAMP:20260423T134930Z
DTSTART:20260505T180000Z
SUMMARY:Brut(es) - Cie Chute Libre - Saison Lieu Unique
DESCRIPTION:Danse Pour les chorégraphes venus du hip-hop Annabelle Loiseau
  et Pierre Bolo\, le krump est une danse puissante\, hors-norme\,. Lorsqu
 ’il s’en empare\, l’interprète est traversé par une énergie féro
 ce qui l’arrache à lui-m…\n\nhttps://pionra.fr/es/events/nantes-agend
 a-72352
URL:https://pionra.fr/es/events/nantes-agenda-72352
STATUS:CONFIRMED
DTEND:20260505T180000Z
LOCATION:Lieu Unique (le)\, Lieu Unique (le)\, Quai Ferdinand Favre\, 44000
 \, Nantes\, Nantes
END:VEVENT
END:VCALENDAR
