BEGIN:VCALENDAR
VERSION:2.0
PRODID:-//Pionra//Events Calendar//EN
CALSCALE:GREGORIAN
METHOD:PUBLISH
X-WR-CALNAME:Au bout du conte… un conte à compter
X-WR-CALDESC:Conte musical pour jeune public de 3 à 8 ansde Laurent Descha
 mps et Denis Benoliel Compositeurs : Liz Cherhal\, Baptiste Brondy et Pete
 r Sallamandi Dans ce conte musical\, humoristique et interactif\, la musiq
 ue et les cha…
BEGIN:VEVENT
UID:pionra-event-nantes-agenda-72588@pionra.local
DTSTAMP:20260423T134930Z
DTSTART:20260619T091500Z
SUMMARY:Au bout du conte… un conte à compter
DESCRIPTION:Conte musical pour jeune public de 3 à 8 ansde Laurent Descham
 ps et Denis Benoliel Compositeurs : Liz Cherhal\, Baptiste Brondy et Peter
  Sallamandi Dans ce conte musical\, humoristique et interactif\, la musiqu
 e et les cha…\n\nhttps://pionra.fr/es/events/nantes-agenda-72588
URL:https://pionra.fr/es/events/nantes-agenda-72588
STATUS:CONFIRMED
DTEND:20260619T101500Z
LOCATION:Théâtre de Jeanne\, Théâtre de Jeanne\, 5 Rue des Salorges\, 4
 4100\, Nantes\, Nantes
END:VEVENT
END:VCALENDAR
