BEGIN:VCALENDAR
VERSION:2.0
PRODID:-//Pionra//Events Calendar//EN
CALSCALE:GREGORIAN
METHOD:PUBLISH
X-WR-CALNAME:Les 48h de l&rsquo\;agriculture urbaine
X-WR-CALDESC:Les jardins potagers niçois ouvriront leurs portes au grand p
 ublic lors du weekend des 48heures de l’agriculture urbaine. Les semence
 s potagères seront à l’honneur !
BEGIN:VEVENT
UID:pionra-event-nice-agenda-44731-64f6ab8af684b8@pionra.local
DTSTAMP:20260423T143220Z
DTSTART:20260425T080000Z
SUMMARY:Les 48h de l&rsquo\;agriculture urbaine
DESCRIPTION:Les jardins potagers niçois ouvriront leurs portes au grand pu
 blic lors du weekend des 48heures de l’agriculture urbaine. Les semences
  potagères seront à l’honneur !\n\nhttps://pionra.fr/es/events/nice-ag
 enda-44731-64f6ab8af684b8
URL:https://pionra.fr/es/events/nice-agenda-44731-64f6ab8af684b8
STATUS:CONFIRMED
DTEND:20260426T080000Z
LOCATION:Nice\, Nice
END:VEVENT
END:VCALENDAR
