BEGIN:VCALENDAR
VERSION:2.0
PRODID:-//Pionra//Events Calendar//EN
CALSCALE:GREGORIAN
METHOD:PUBLISH
X-WR-CALNAME:Bonjour avec Markobi au Théâtre Le Double Fond
X-WR-CALDESC:Le Strasbourgeois Markobi est champion du monde de la magie da
 ns la catégorie cartomagie. Personnage atypique\, tantôt imprévisible\,
  tantôt attachant\, Markobi vit sa magie en même temps que ses spectateu
 rs\, avec une dési…
BEGIN:VEVENT
UID:pionra-event-opendata-paris-51691-1@pionra.local
DTSTAMP:20260423T123820Z
DTSTART:20260423T190000Z
SUMMARY:Bonjour avec Markobi au Théâtre Le Double Fond
DESCRIPTION:Le Strasbourgeois Markobi est champion du monde de la magie dan
 s la catégorie cartomagie. Personnage atypique\, tantôt imprévisible\, 
 tantôt attachant\, Markobi vit sa magie en même temps que ses spectateur
 s\, avec une dési…\n\nhttps://pionra.fr/es/events/opendata-paris-51691-
 1
URL:https://pionra.fr/es/events/opendata-paris-51691-1
STATUS:CONFIRMED
DTEND:20260423T201500Z
LOCATION:Théâtre Le Double Fond\, Théâtre Le Double Fond\, 1\, place du
  Marché Sainte Catherine\, Paris\, Paris
END:VEVENT
END:VCALENDAR
