BEGIN:VCALENDAR
VERSION:2.0
PRODID:-//Pionra//Events Calendar//EN
CALSCALE:GREGORIAN
METHOD:PUBLISH
X-WR-CALNAME:Stella Cole
X-WR-CALDESC:Véritable icône montante\, elle incarne aujourd'hui le renou
 veau du jazz\, en apportant une fraîcheur moderne aux standards intempore
 ls.
BEGIN:VEVENT
UID:pionra-event-opendata-paris-80289-1@pionra.local
DTSTAMP:20260423T123829Z
DTSTART:20260423T180000Z
SUMMARY:Stella Cole
DESCRIPTION:Véritable icône montante\, elle incarne aujourd'hui le renouv
 eau du jazz\, en apportant une fraîcheur moderne aux standards intemporel
 s.\n\nhttps://pionra.fr/es/events/opendata-paris-80289-1
URL:https://pionra.fr/es/events/opendata-paris-80289-1
STATUS:CONFIRMED
DTEND:20260423T200000Z
LOCATION:New Morning\, New Morning\, 9 Rue des Petites Écuries\, Paris\, P
 aris
END:VEVENT
END:VCALENDAR
