BEGIN:VCALENDAR
VERSION:2.0
PRODID:-//Pionra//Events Calendar//EN
CALSCALE:GREGORIAN
METHOD:PUBLISH
X-WR-CALNAME:Une création collective et inclusive qui interroge la place d
 u rire dans nos vies
X-WR-CALDESC:Protocole Ahahah\, création collective de la compagnie Appare
 nte
BEGIN:VEVENT
UID:pionra-event-opendata-paris-81798-1@pionra.local
DTSTAMP:20260423T123829Z
DTSTART:20260423T140000Z
SUMMARY:Une création collective et inclusive qui interroge la place du rir
 e dans nos vies
DESCRIPTION:Protocole Ahahah\, création collective de la compagnie Apparen
 te\n\nhttps://pionra.fr/es/events/opendata-paris-81798-1
URL:https://pionra.fr/es/events/opendata-paris-81798-1
STATUS:CONFIRMED
DTEND:20260423T150000Z
LOCATION:Centre Paris Anim' Ken Saro-Wiwa\, Centre Paris Anim' Ken Saro-Wiw
 a\, 63 rue Buzenval\, Paris\, Paris
END:VEVENT
END:VCALENDAR
