BEGIN:VCALENDAR
VERSION:2.0
PRODID:-//Pionra//Events Calendar//EN
CALSCALE:GREGORIAN
METHOD:PUBLISH
X-WR-CALNAME:Ciné-club Desi Kino : Projection de Made in Bangladesh de Rub
 aiyat Hossain
X-WR-CALDESC:Le ciné-club Desi Kino\, votre rendez-vous mensuel pour explo
 rer la richesse des cinémas d’Asie du Sud (Inde\, Pakistan\, Bangladesh
 \, Sri Lanka\, Népal\, Bhoutan\, Maldives) et de leurs diasporas\, à tra
 vers des projections\, r…
BEGIN:VEVENT
UID:pionra-event-opendata-paris-82881-1@pionra.local
DTSTAMP:20260423T123829Z
DTSTART:20260423T183000Z
SUMMARY:Ciné-club Desi Kino : Projection de Made in Bangladesh de Rubaiyat
  Hossain
DESCRIPTION:Le ciné-club Desi Kino\, votre rendez-vous mensuel pour explor
 er la richesse des cinémas d’Asie du Sud (Inde\, Pakistan\, Bangladesh\
 , Sri Lanka\, Népal\, Bhoutan\, Maldives) et de leurs diasporas\, à trav
 ers des projections\, r…\n\nhttps://pionra.fr/es/events/opendata-paris-8
 2881-1
URL:https://pionra.fr/es/events/opendata-paris-82881-1
STATUS:CONFIRMED
DTEND:20260423T211500Z
LOCATION:Cinéma Le Brady\, Cinéma Le Brady\, 39\, boulevard de Strasbourg
 \, Paris\, Paris
END:VEVENT
END:VCALENDAR
