BEGIN:VCALENDAR
VERSION:2.0
PRODID:-//Pionra//Events Calendar//EN
CALSCALE:GREGORIAN
METHOD:PUBLISH
X-WR-CALNAME:Révolutions et scandales de l’histoire de l’art\, de Giot
 to à Manet
X-WR-CALDESC:Giotto\, Véronèse\, Caravage\, Artemisia\, Ingres\, Goya\, C
 ourbet puis Édouard Manet\, des artistes qui ont eu à cœur de provoquer
  leurs contemporains. On ne fait rien sans scandale !
BEGIN:VEVENT
UID:pionra-event-opendata-paris-83477-1@pionra.local
DTSTAMP:20260423T123820Z
DTSTART:20260423T121500Z
SUMMARY:Révolutions et scandales de l’histoire de l’art\, de Giotto à
  Manet
DESCRIPTION:Giotto\, Véronèse\, Caravage\, Artemisia\, Ingres\, Goya\, Co
 urbet puis Édouard Manet\, des artistes qui ont eu à cœur de provoquer 
 leurs contemporains. On ne fait rien sans scandale !\n\nhttps://pionra.fr/
 es/events/opendata-paris-83477-1
URL:https://pionra.fr/es/events/opendata-paris-83477-1
STATUS:CONFIRMED
DTEND:20260423T141500Z
LOCATION:Club Montparnasse\, Club Montparnasse\, 92 bis bd du Montparnasse\
 , Paris\, Paris
END:VEVENT
END:VCALENDAR
