BEGIN:VCALENDAR
VERSION:2.0
PRODID:-//Pionra//Events Calendar//EN
CALSCALE:GREGORIAN
METHOD:PUBLISH
X-WR-CALNAME:Cinéma plein air VO diaspora
X-WR-CALDESC:Projection en version originale suivie d’une discussion libr
 e et d’un pique-nique.
BEGIN:VEVENT
UID:pionra-event-events-seed-16@pionra.local
DTSTAMP:20260422T141642Z
DTSTART:20260619T213000Z
SUMMARY:Cinéma plein air VO diaspora
DESCRIPTION:Projection en version originale suivie d’une discussion libre
  et d’un pique-nique.\n\nhttps://pionra.fr/fr/events/events-seed-16
URL:https://pionra.fr/fr/events/events-seed-16
STATUS:CONFIRMED
DTEND:20260620T003000Z
LOCATION:Parc Jean-Baptiste Lebas\, Boulevard Jean-Baptiste Lebas\, Lille\,
  Lille
END:VEVENT
END:VCALENDAR
