BEGIN:VCALENDAR
VERSION:2.0
PRODID:-//Pionra//Events Calendar//EN
CALSCALE:GREGORIAN
METHOD:PUBLISH
X-WR-CALNAME:Pionra Events
X-WR-CALDESC:Événements à venir sur Pionra
BEGIN:VEVENT
UID:pionra-event-events-seed-02@pionra.local
DTSTAMP:20260422T173305Z
DTSTART:20260427T193000Z
SUMMARY:Iftar collectif · familles et nouveaux arrivants
DESCRIPTION:Repas partagé\, accueil des nouveaux arrivants et mise en rela
 tion avec des bénévoles du quartier.\n\nhttps://pionra.fr/fr/events/even
 ts-seed-02
URL:https://pionra.fr/fr/events/events-seed-02
STATUS:CONFIRMED
DTEND:20260427T223000Z
LOCATION:Maison des Associations\, 28 rue Denfert-Rochereau\, Lyon\, Lyon
END:VEVENT
END:VCALENDAR
