BEGIN:VCALENDAR
VERSION:2.0
PRODID:-//Pionra//Events Calendar//EN
CALSCALE:GREGORIAN
METHOD:PUBLISH
X-WR-CALNAME:Toc Toc
X-WR-CALDESC:Une comédie survitaminée drôle et décalée. Dans la salle 
 d’attente du docteur Stern\, éminent neuropsychiatre de renommée mondi
 ale\, six patients atteints de TOC (Troubles obsessionnels compulsifs) ont
  pris rendez-vous de…
BEGIN:VEVENT
UID:pionra-event-nantes-agenda-69774@pionra.local
DTSTAMP:20260423T132654Z
DTSTART:20260620T183000Z
SUMMARY:Toc Toc
DESCRIPTION:Une comédie survitaminée drôle et décalée. Dans la salle d
 ’attente du docteur Stern\, éminent neuropsychiatre de renommée mondia
 le\, six patients atteints de TOC (Troubles obsessionnels compulsifs) ont 
 pris rendez-vous de…\n\nhttps://pionra.fr/fr/events/nantes-agenda-69774
URL:https://pionra.fr/fr/events/nantes-agenda-69774
STATUS:CONFIRMED
DTEND:20260620T200000Z
LOCATION:Théâtre Beaulieu\, Théâtre Beaulieu\, 9 Bis Boulevard Françoi
 s Blancho\, 44200\, Nantes\, Nantes
END:VEVENT
END:VCALENDAR
