BEGIN:VCALENDAR
VERSION:2.0
PRODID:-//Pionra//Events Calendar//EN
CALSCALE:GREGORIAN
METHOD:PUBLISH
X-WR-CALNAME:Petits crimes entre amis
X-WR-CALDESC:Comédie de Franck Duarte Un véritable ami\, c’est celui qu
 i nous aide… Même quand on vient de tuer quelqu’un !Du moins\, c’es
 t ce qui se dit.Mais que se passe-t-il quand on essaie de vérifier ? Nous
  sommes dans les années…
BEGIN:VEVENT
UID:pionra-event-nantes-agenda-71099@pionra.local
DTSTAMP:20260423T132517Z
DTSTART:20260613T183000Z
SUMMARY:Petits crimes entre amis
DESCRIPTION:Comédie de Franck Duarte Un véritable ami\, c’est celui qui
  nous aide… Même quand on vient de tuer quelqu’un !Du moins\, c’est
  ce qui se dit.Mais que se passe-t-il quand on essaie de vérifier ? Nous 
 sommes dans les années…\n\nhttps://pionra.fr/fr/events/nantes-agenda-71
 099
URL:https://pionra.fr/fr/events/nantes-agenda-71099
STATUS:CONFIRMED
DTEND:20260613T183000Z
LOCATION:Théâtre de Jeanne\, Théâtre de Jeanne\, 5 Rue des Salorges\, 4
 4100\, Nantes\, Nantes
END:VEVENT
END:VCALENDAR
