BEGIN:VCALENDAR
VERSION:2.0
PRODID:-//Pionra//Events Calendar//EN
CALSCALE:GREGORIAN
METHOD:PUBLISH
X-WR-CALNAME:Bouge 30 minutes chaque jour !
X-WR-CALDESC:Découvrez nos propositions d'animation Sport/Santé !Revenez 
 ici régulièrement\, de nouveaux créneaux seront ajoutés
BEGIN:VEVENT
UID:pionra-event-nantes-agenda-71180@pionra.local
DTSTAMP:20260423T132643Z
DTSTART:20260610T153000Z
SUMMARY:Bouge 30 minutes chaque jour !
DESCRIPTION:Découvrez nos propositions d'animation Sport/Santé !Revenez i
 ci régulièrement\, de nouveaux créneaux seront ajoutés\n\nhttps://pion
 ra.fr/fr/events/nantes-agenda-71180
URL:https://pionra.fr/fr/events/nantes-agenda-71180
STATUS:CONFIRMED
DTEND:20260610T161500Z
LOCATION:Centre socioculturel des Bourderies\, Centre socioculturel des Bou
 rderies\, 2A Rue de Saint Brévin\, 44100\, Nantes\, Nantes
END:VEVENT
END:VCALENDAR
