BEGIN:VCALENDAR
VERSION:2.0
PRODID:-//Pionra//Events Calendar//EN
CALSCALE:GREGORIAN
METHOD:PUBLISH
X-WR-CALNAME:Campanerìa (Histoires de cloches)
X-WR-CALDESC:Nice\, fin du XIXe siècle. Les cloches sonnent en toute heure
  et en tous lieux. Mais qui détient l’heure précise\, la vraie\, l’u
 nique ? La municipalité\, l’Église\, le soleil\, les Parisiens\, les R
 omains\, les Anglais\, le che…
BEGIN:VEVENT
UID:pionra-event-nice-agenda-43994-64e529812d5220@pionra.local
DTSTAMP:20260423T144512Z
DTSTART:20260516T130000Z
SUMMARY:Campanerìa (Histoires de cloches)
DESCRIPTION:Nice\, fin du XIXe siècle. Les cloches sonnent en toute heure 
 et en tous lieux. Mais qui détient l’heure précise\, la vraie\, l’un
 ique ? La municipalité\, l’Église\, le soleil\, les Parisiens\, les Ro
 mains\, les Anglais\, le che…\n\nhttps://pionra.fr/fr/events/nice-agenda
 -43994-64e529812d5220
URL:https://pionra.fr/fr/events/nice-agenda-43994-64e529812d5220
STATUS:CONFIRMED
DTEND:20260516T130000Z
LOCATION:Théâtre Francis-Gag\, Théâtre Francis-Gag\, 4 rue de la Croix\
 , 06300\, Nice\, Nice
END:VEVENT
END:VCALENDAR
