BEGIN:VCALENDAR
VERSION:2.0
PRODID:-//Pionra//Events Calendar//EN
CALSCALE:GREGORIAN
METHOD:PUBLISH
X-WR-CALNAME:Sur la route de Madison
X-WR-CALDESC:Réalisé par Clint Eastwood | The Bridges of Madison County |
  1995 | 2h15 | États-Unis Avec : Meryl Streep\, Clint Eastwood\, Annie Co
 rley
BEGIN:VEVENT
UID:pionra-event-nice-agenda-44927-64fe552113ab10@pionra.local
DTSTAMP:20260423T144320Z
DTSTART:20260501T170000Z
SUMMARY:Sur la route de Madison
DESCRIPTION:Réalisé par Clint Eastwood | The Bridges of Madison County | 
 1995 | 2h15 | États-Unis Avec : Meryl Streep\, Clint Eastwood\, Annie Cor
 ley\n\nhttps://pionra.fr/fr/events/nice-agenda-44927-64fe552113ab10
URL:https://pionra.fr/fr/events/nice-agenda-44927-64fe552113ab10
STATUS:CONFIRMED
DTEND:20260501T170000Z
LOCATION:Cinémathèque\, Cinémathèque\, Cinéma Megarama Nice Vauban - a
 venue François Mitterrand\, 06300\, Nice\, Nice
END:VEVENT
END:VCALENDAR
