BEGIN:VCALENDAR
VERSION:2.0
PRODID:-//Pionra//Events Calendar//EN
CALSCALE:GREGORIAN
METHOD:PUBLISH
X-WR-CALNAME:Tomboy
X-WR-CALDESC:Réalisé par Céline Sciamma | 2011 | 1h22 | France Avec : Zo
 é Héran\, Malonn Lévana\, Jeanne Disson\, Mathieu Demy
BEGIN:VEVENT
UID:pionra-event-nice-agenda-44955-64fe5737451178@pionra.local
DTSTAMP:20260423T144343Z
DTSTART:20260505T180000Z
SUMMARY:Tomboy
DESCRIPTION:Réalisé par Céline Sciamma | 2011 | 1h22 | France Avec : Zo
 é Héran\, Malonn Lévana\, Jeanne Disson\, Mathieu Demy\n\nhttps://pionr
 a.fr/fr/events/nice-agenda-44955-64fe5737451178
URL:https://pionra.fr/fr/events/nice-agenda-44955-64fe5737451178
STATUS:CONFIRMED
DTEND:20260505T180000Z
LOCATION:Cinémathèque\, Cinémathèque\, Cinéma Megarama Nice Vauban - a
 venue François Mitterrand\, 06300\, Nice\, Nice
END:VEVENT
END:VCALENDAR
