BEGIN:VCALENDAR
VERSION:2.0
PRODID:-//Pionra//Events Calendar//EN
CALSCALE:GREGORIAN
METHOD:PUBLISH
X-WR-CALNAME:Exposition Fabienne Le Gallais
X-WR-CALDESC:Née à Nice\, Fabienne Le Gallais puise également son inspir
 ation dans ses origines bretonnes. Formée à la restauration de tableaux 
 d’église\, elle développe rapidement une pratique personnelle tournée
  vers la création\, la…
BEGIN:VEVENT
UID:pionra-event-nice-agenda-44971-65007b643c49d0@pionra.local
DTSTAMP:20260423T144318Z
DTSTART:20260428T080000Z
SUMMARY:Exposition Fabienne Le Gallais
DESCRIPTION:Née à Nice\, Fabienne Le Gallais puise également son inspira
 tion dans ses origines bretonnes. Formée à la restauration de tableaux d
 ’église\, elle développe rapidement une pratique personnelle tournée 
 vers la création\, la…\n\nhttps://pionra.fr/fr/events/nice-agenda-44971
 -65007b643c49d0
URL:https://pionra.fr/fr/events/nice-agenda-44971-65007b643c49d0
STATUS:CONFIRMED
DTEND:20260517T170000Z
LOCATION:Galerie Lou Babazouk 3 &#8211\; Angleterre\, Galerie Lou Babazouk 
 3 &#8211\; Angleterre\, 18 rue d'Angleterre\, 06000\, Nice\, Nice
END:VEVENT
END:VCALENDAR
