BEGIN:VCALENDAR
VERSION:2.0
PRODID:-//Pionra//Events Calendar//EN
CALSCALE:GREGORIAN
METHOD:PUBLISH
X-WR-CALNAME:Make Friends • H2T
X-WR-CALDESC:Cette soirée plaira aux fans de… Inhaler\, Circa Waves & Th
 e 1975
BEGIN:VEVENT
UID:pionra-event-opendata-paris-76699-1@pionra.local
DTSTAMP:20260423T125748Z
DTSTART:20260423T170000Z
SUMMARY:Make Friends • H2T
DESCRIPTION:Cette soirée plaira aux fans de… Inhaler\, Circa Waves & The
  1975\n\nhttps://pionra.fr/fr/events/opendata-paris-76699-1
URL:https://pionra.fr/fr/events/opendata-paris-76699-1
STATUS:CONFIRMED
DTEND:20260423T210000Z
LOCATION:SUPERSONIC\, SUPERSONIC\, 9 Rue Biscornet\, Paris\, Paris
END:VEVENT
END:VCALENDAR
