BEGIN:VCALENDAR
VERSION:2.0
PRODID:-//Pionra//Events Calendar//EN
CALSCALE:GREGORIAN
METHOD:PUBLISH
X-WR-CALNAME:GROS MO
X-WR-CALDESC:Retrouvez Gros Mo pour un concert inédit le jeudi 23 avril à
  La Place !
BEGIN:VEVENT
UID:pionra-event-opendata-paris-77683-1@pionra.local
DTSTAMP:20260423T125521Z
DTSTART:20260423T173000Z
SUMMARY:GROS MO
DESCRIPTION:Retrouvez Gros Mo pour un concert inédit le jeudi 23 avril à 
 La Place !\n\nhttps://pionra.fr/fr/events/opendata-paris-77683-1
URL:https://pionra.fr/fr/events/opendata-paris-77683-1
STATUS:CONFIRMED
DTEND:20260423T210000Z
LOCATION:La Place\, La Place\, 10 passage de la Canopée\, Paris\, Paris
END:VEVENT
END:VCALENDAR
