BEGIN:VCALENDAR
VERSION:2.0
PRODID:-//Pionra//Events Calendar//EN
CALSCALE:GREGORIAN
METHOD:PUBLISH
X-WR-CALNAME:ART'R 2026 / "Kamchàtka" - Compagnie Kamchàtka
X-WR-CALDESC:Représentations "Kamchàtka"\, de la compagnie Kamchàtka dan
 s le cadre d'Art'R - Saison des arts de la rue - Printemps 2026.
BEGIN:VEVENT
UID:pionra-event-opendata-paris-78737-1@pionra.local
DTSTAMP:20260423T161006Z
DTSTART:20260423T163000Z
SUMMARY:ART'R 2026 / "Kamchàtka" - Compagnie Kamchàtka
DESCRIPTION:Représentations "Kamchàtka"\, de la compagnie Kamchàtka dans
  le cadre d'Art'R - Saison des arts de la rue - Printemps 2026.\n\nhttps:/
 /pionra.fr/fr/events/opendata-paris-78737-1
URL:https://pionra.fr/fr/events/opendata-paris-78737-1
STATUS:CONFIRMED
DTEND:20260423T172000Z
LOCATION:Mairie du 11e arrondissement\, Mairie du 11e arrondissement\, 12 P
 lace Léon Blum\, Paris\, Paris
END:VEVENT
END:VCALENDAR
