BEGIN:VCALENDAR
VERSION:2.0
PRODID:-//Pionra//Events Calendar//EN
CALSCALE:GREGORIAN
METHOD:PUBLISH
X-WR-CALNAME:CECIL L. RECCHIA – LES CONCERTS JAZZ MAGAZINE
X-WR-CALDESC:La chanteuse Cecil L. Recchia relève un défi audacieux : ré
 inventer les grands classiques du Génial Manouche en y posant ses propres
  textes.
BEGIN:VEVENT
UID:pionra-event-opendata-paris-80047-1@pionra.local
DTSTAMP:20260423T125629Z
DTSTART:20260423T180000Z
SUMMARY:CECIL L. RECCHIA – LES CONCERTS JAZZ MAGAZINE
DESCRIPTION:La chanteuse Cecil L. Recchia relève un défi audacieux : réi
 nventer les grands classiques du Génial Manouche en y posant ses propres 
 textes.\n\nhttps://pionra.fr/fr/events/opendata-paris-80047-1
URL:https://pionra.fr/fr/events/opendata-paris-80047-1
STATUS:CONFIRMED
DTEND:20260423T200000Z
LOCATION:LE BAL BLOMET\, LE BAL BLOMET\, 33 Rue Blomet\, Paris\, Paris
END:VEVENT
END:VCALENDAR
