BEGIN:VCALENDAR
VERSION:2.0
PRODID:-//Pionra//Events Calendar//EN
CALSCALE:GREGORIAN
METHOD:PUBLISH
X-WR-CALNAME:Stage karaté adultes printemps
X-WR-CALDESC:Une semaine de stage pour s'initier ou améliorer sa pratique 
 du karaté.
BEGIN:VEVENT
UID:pionra-event-opendata-paris-81253-4@pionra.local
DTSTAMP:20260423T125748Z
DTSTART:20260423T170000Z
SUMMARY:Stage karaté adultes printemps
DESCRIPTION:Une semaine de stage pour s'initier ou améliorer sa pratique d
 u karaté.\n\nhttps://pionra.fr/fr/events/opendata-paris-81253-4
URL:https://pionra.fr/fr/events/opendata-paris-81253-4
STATUS:CONFIRMED
DTEND:20260423T183000Z
LOCATION:Centre Paris Anim' Grange aux Belles\, Centre Paris Anim' Grange a
 ux Belles\, 6 Rue Boy-Zelensky\, Paris\, Paris
END:VEVENT
END:VCALENDAR
