BEGIN:VCALENDAR
VERSION:2.0
PRODID:-//Pionra//Events Calendar//EN
CALSCALE:GREGORIAN
METHOD:PUBLISH
X-WR-CALNAME:Stage vacances d'avril - Tissu aérien adultes au centre Paris
  Anim' Wangari
X-WR-CALDESC:Le centre Paris Anim' Wangari vous propose un stage de tissu a
 érien pendant les vacances d'avril !
BEGIN:VEVENT
UID:pionra-event-opendata-paris-82027-4@pionra.local
DTSTAMP:20260423T125749Z
DTSTART:20260423T160000Z
SUMMARY:Stage vacances d'avril - Tissu aérien adultes au centre Paris Anim
 ' Wangari
DESCRIPTION:Le centre Paris Anim' Wangari vous propose un stage de tissu a
 érien pendant les vacances d'avril !\n\nhttps://pionra.fr/fr/events/opend
 ata-paris-82027-4
URL:https://pionra.fr/fr/events/opendata-paris-82027-4
STATUS:CONFIRMED
DTEND:20260423T180000Z
LOCATION:Centre Paris Anim' Wangari Maathai\, Centre Paris Anim' Wangari Ma
 athai\, 13-15 rue Mouraud\, Paris\, Paris
END:VEVENT
END:VCALENDAR
